BEGIN:VCALENDAR
VERSION:2.0
PRODID:-//eventon.com NONSGML v1.0//EN
CALSCALE:GREGORIAN
METHOD:PUBLISH
BEGIN:VEVENT
UID:69e8a50e78776
DTSTAMP:20260422T103806
DTSTART:20260820
DTEND:20260909
TZID:Europe/Lisbon
LOCATION:
SUMMARY:Fiestas Patronales de Nuestra Señora de Candelaria
DESCRIPTION:Las fiestas patronales de Tijarafe\,  celebradas en honor a Nuestra Señora de la Candelaria\,  patrona del municipio\,  constituyen uno de los principales hitos del calendario festivo local. La programación combina actos religiosos\,  actividades culturales y celebraciones populares\,  destacando de manera especial la Danza del Diablo\,  una manifestación tradicional de gran[..]\nhttps://culturalapalma.com/eventos/fiestas-patronales-de-nuestra-senora-de-candelaria/
URL:https://culturalapalma.com/eventos/fiestas-patronales-de-nuestra-senora-de-candelaria/
END:VEVENT
END:VCALENDAR