BEGIN:VCALENDAR
VERSION:2.0
PRODID:-//eventon.com NONSGML v1.0//EN
CALSCALE:GREGORIAN
METHOD:PUBLISH
BEGIN:VEVENT
UID:69e8902a173bf
DTSTAMP:20260422T090858
DTSTART:20260422
DTEND:20260426
TZID:Europe/Lisbon
LOCATION:
SUMMARY:Feria del Libro de Santa Cruz de La Palma
DESCRIPTION:La Feria del Libro de Santa Cruz de La Palma se consolida como un espacio de encuentro en torno a la lectura\,  la creación literaria y el pensamiento\,  reuniendo a autores\,  editoriales y público en general. A lo largo de su programación se desarrollan presentaciones de libros\,  encuentros con escritores\, [..]\nhttps://culturalapalma.com/eventos/feria-del-libro-de-santa-cruz-de-la-palma/
URL:https://culturalapalma.com/eventos/feria-del-libro-de-santa-cruz-de-la-palma/
END:VEVENT
END:VCALENDAR