BEGIN:VCALENDAR
VERSION:2.0
PRODID:-//eventon.com NONSGML v1.0//EN
CALSCALE:GREGORIAN
METHOD:PUBLISH
BEGIN:VEVENT
UID:69e890072f4e2
DTSTAMP:20260422T090823
DTSTART:20260424
DTEND:20260426
TZID:Europe/Lisbon
LOCATION:
SUMMARY:Festival Cuarta Pared - Festival de Teatro Amateur
DESCRIPTION:La Casa de la Cultura José Luis Lorenzo Barreto\,  en Tijarafe\,  acoge una nueva edición del Festival de Teatro Amateur “La Cuarta Pared”\,  una cita que reúne a diferentes compañías en torno a la creación escénica. Durante los días 24 y 25 de abril\,  el público podrá disfrutar de varias[..]\nhttps://culturalapalma.com/eventos/festival-cuarta-pared-festival-de-teatro-amateur/
URL:https://culturalapalma.com/eventos/festival-cuarta-pared-festival-de-teatro-amateur/
END:VEVENT
END:VCALENDAR