BEGIN:VCALENDAR
VERSION:2.0
PRODID:-//eventon.com NONSGML v1.0//EN
CALSCALE:GREGORIAN
METHOD:PUBLISH
BEGIN:VEVENT
UID:69e890251cacd
DTSTAMP:20260422T090853
DTSTART:20260418T200000Z
DTEND:20260419T130000Z
TZID:Europe/Lisbon
LOCATION:
SUMMARY:Concierto “Entre cuerdas y voces”
DESCRIPTION:La Isla de La Palma acoge el concierto Entre cuerdas y voces\,  una propuesta musical que reúne a la Orquesta de Cámara del Conservatorio Profesional de Música de Tenerife y al Coro de Cámara Llanensis. Bajo la dirección de Ángel Camacho Bermúdez y Mario San Gil Plata\,  respectivamente\,  ambas formaciones[..]\nhttps://culturalapalma.com/eventos/concierto-coro-de-camara-llanensis/
URL:https://culturalapalma.com/eventos/concierto-coro-de-camara-llanensis/
END:VEVENT
END:VCALENDAR