BEGIN:VCALENDAR
VERSION:2.0
PRODID:-//eventon.com NONSGML v1.0//EN
CALSCALE:GREGORIAN
METHOD:PUBLISH
BEGIN:VEVENT
UID:69e8a5725f6ff
DTSTAMP:20260422T103946
DTSTART:20260425
DTEND:20260426
TZID:Europe/Lisbon
LOCATION:
SUMMARY:Feria del Libro - Breña Alta
DESCRIPTION:La Feria del Libro de Breña Alta es un encuentro cultural vinculado al fomento de la lectura y la promoción de la literatura\,  en el que participan librerías locales con casetas y exposiciones de volúmenes para públicos de todas las edades. Este espacio cultural se constituye como punto de encuentro[..]\nhttps://culturalapalma.com/eventos/feria-del-libro-brena-alta/
URL:https://culturalapalma.com/eventos/feria-del-libro-brena-alta/
END:VEVENT
END:VCALENDAR