BEGIN:VCALENDAR
VERSION:2.0
PRODID:-//eventon.com NONSGML v1.0//EN
CALSCALE:GREGORIAN
METHOD:PUBLISH
BEGIN:VEVENT
UID:69e8a5480053e
DTSTAMP:20260422T103904
DTSTART:20260429
DTEND:20260503
TZID:Europe/Lisbon
LOCATION:
SUMMARY:Feria del Libro - Los Llanos de Aridane
DESCRIPTION:La Feria del Libro de Los Llanos de Aridane es un encuentro cultural dedicado al fomento de la lectura que reúne a público de todas las edades en torno a los libros. Un espacio para descubrir nuevas lecturas\,  acercarse a la literatura y disfrutar de actividades vinculadas al mundo del[..]\nhttps://culturalapalma.com/eventos/feria-del-libro-los-llanos-de-aridane/
URL:https://culturalapalma.com/eventos/feria-del-libro-los-llanos-de-aridane/
END:VEVENT
END:VCALENDAR