BEGIN:VCALENDAR
VERSION:2.0
PRODID:-//eventon.com NONSGML v1.0//EN
CALSCALE:GREGORIAN
METHOD:PUBLISH
BEGIN:VEVENT
UID:69e893346aa81
DTSTAMP:20260422T092156
DTSTART:20260502
DTEND:20260503
TZID:Europe/Lisbon
LOCATION:
SUMMARY:Feria Culturas del Mundo
DESCRIPTION:La Feria Culturas del Mundo es una cita cultural consolidada que se celebra en el Mercadillo de Puntagorda y que invita a descubrir la diversidad cultural del planeta a través de la gastronomía\,  la música\,  la danza y las tradiciones de distintos países. El evento propone un recorrido simbólico por[..]\nhttps://culturalapalma.com/eventos/feria-culturas-del-mundo/
URL:https://culturalapalma.com/eventos/feria-culturas-del-mundo/
END:VEVENT
END:VCALENDAR