BEGIN:VCALENDAR
VERSION:2.0
PRODID:-//eventon.com NONSGML v1.0//EN
CALSCALE:GREGORIAN
METHOD:PUBLISH
BEGIN:VEVENT
UID:69e8933b03727
DTSTAMP:20260422T092203
DTSTART:20260501
DTEND:20260504
TZID:Europe/Lisbon
LOCATION:
SUMMARY:Fiesta de la Cruz
DESCRIPTION:La Fiesta de la Cruz es una de las celebraciones más arraigadas y emblemáticas del municipio de Breña Alta en el marco de la tradicional festividad de Las Cruces de Mayo. Durante esta fiesta\,  los vecinos transforman calles y caminos en un auténtico museo efímero: más de una veintena de[..]\nhttps://culturalapalma.com/eventos/fiesta-de-la-cruz/
URL:https://culturalapalma.com/eventos/fiesta-de-la-cruz/
END:VEVENT
END:VCALENDAR