BEGIN:VCALENDAR
VERSION:2.0
PRODID:-//eventon.com NONSGML v1.0//EN
CALSCALE:GREGORIAN
METHOD:PUBLISH
BEGIN:VEVENT
UID:69e893a66cf70
DTSTAMP:20260422T092350
DTSTART:20260510
DTEND:20260511
TZID:Europe/Lisbon
LOCATION:
SUMMARY:Fiesta de la Cruz de Matos
DESCRIPTION:La Cruz de Matos es una celebración muy querida en Puntagorda que gira en torno al encuentro vecinal y la convivencia. Cada año\,  la cruz se engalana y el entorno de Matos se convierte en punto de reunión para compartir comida\,  música y baile popular en un ambiente distendido\,  al[..]\nhttps://culturalapalma.com/eventos/fiesta-de-la-cruz-de-matos/
URL:https://culturalapalma.com/eventos/fiesta-de-la-cruz-de-matos/
END:VEVENT
END:VCALENDAR