BEGIN:VCALENDAR
VERSION:2.0
PRODID:-//eventon.com NONSGML v1.0//EN
CALSCALE:GREGORIAN
METHOD:PUBLISH
BEGIN:VEVENT
UID:69e88f1131c98
DTSTAMP:20260422T090417
DTSTART:20260514
DTEND:20260518
TZID:Europe/Lisbon
LOCATION:
SUMMARY:Feria de San Isidro
DESCRIPTION:La Fiesta de San Isidro en Breña Alta es una celebración tradicional en honor a San Isidro Labrador\,  patrón de los agricultores y ganaderos\,  que se vive con un fuerte componente religioso y popular. En estas fiestas se realizan actos litúrgicos como misa y procesión\,  pero también destaca la feria[..]\nhttps://culturalapalma.com/eventos/feria-de-san-isidro/
URL:https://culturalapalma.com/eventos/feria-de-san-isidro/
END:VEVENT
END:VCALENDAR