BEGIN:VCALENDAR
VERSION:2.0
PRODID:-//eventon.com NONSGML v1.0//EN
CALSCALE:GREGORIAN
METHOD:PUBLISH
BEGIN:VEVENT
UID:69e8a5aa5e71a
DTSTAMP:20260422T104042
DTSTART:20260515
DTEND:20260516
TZID:Europe/Lisbon
LOCATION:
SUMMARY:San Isidro Labrador - Barlovento
DESCRIPTION:La festividad de San Isidro Labrador en Barlovento (La Palma) se celebra el 15 de mayo en honor al patrón de los labradores. Los vecinos festejan con cantos tradicionales en la Iglesia de Nuestra Señora del Rosario y una procesión de la imagen del santo por las calles del municipio.[..]\nhttps://culturalapalma.com/eventos/san-isidro-labrador-barlovento/
URL:https://culturalapalma.com/eventos/san-isidro-labrador-barlovento/
END:VEVENT
END:VCALENDAR