BEGIN:VCALENDAR
VERSION:2.0
PRODID:-//eventon.com NONSGML v1.0//EN
CALSCALE:GREGORIAN
METHOD:PUBLISH
BEGIN:VEVENT
UID:69e88f41b8edf
DTSTAMP:20260422T090505
DTSTART:20260516T130000Z
DTEND:20260516T160000Z
TZID:Europe/Lisbon
LOCATION:
SUMMARY:Contigo Almediodía
DESCRIPTION:Contigo Almediodía es un ciclo musical al mediodía que se celebra en Los Llanos de Aridane y que apuesta por la música en directo como herramienta de encuentro social y dinamización del centro urbano. El artista del mes de mayo está pendiente de confirmación.\nhttps://culturalapalma.com/eventos/contigo-almediodia/
URL:https://culturalapalma.com/eventos/contigo-almediodia/
END:VEVENT
END:VCALENDAR