BEGIN:VCALENDAR
VERSION:2.0
PRODID:-//eventon.com NONSGML v1.0//EN
CALSCALE:GREGORIAN
METHOD:PUBLISH
BEGIN:VEVENT
UID:69e8a678a3e77
DTSTAMP:20260422T104408
DTSTART:20260523
DTEND:20260524
TZID:Europe/Lisbon
LOCATION:
SUMMARY:FEVIQUE
DESCRIPTION:El Festival del Vino y el Queso de la Comarca Noroeste se celebra en el Mercadillo del Agricultor de Puntagorda y  reúne a productores locales y del entorno para promover y degustar los vinos y quesos de la zona. El evento combina catas\,  maridajes\,  stands de bodegas y productos artesanos\, [..]\nhttps://culturalapalma.com/eventos/fevique/
URL:https://culturalapalma.com/eventos/fevique/
END:VEVENT
END:VCALENDAR