BEGIN:VCALENDAR
VERSION:2.0
PRODID:-//eventon.com NONSGML v1.0//EN
CALSCALE:GREGORIAN
METHOD:PUBLISH
BEGIN:VEVENT
UID:69e88fcd35adf
DTSTAMP:20260422T090725
DTSTART:20260612
DTEND:20260615
TZID:Europe/Lisbon
LOCATION:
SUMMARY:San Antonio del Monte
DESCRIPTION:La Fiesta de San Antonio del Monte es una de las celebraciones populares más emblemáticas de Garafía. Es un evento de profunda tradición rural y religiosa que combina actos litúrgicos como la misa y la procesión\,  con una feria ganadera\,  concursos de vinos y quesos artesanales\,  música en vivo\,  gastronomía[..]\nhttps://culturalapalma.com/eventos/san-antonio-del-monte/
URL:https://culturalapalma.com/eventos/san-antonio-del-monte/
END:VEVENT
END:VCALENDAR