BEGIN:VCALENDAR
VERSION:2.0
PRODID:-//eventon.com NONSGML v1.0//EN
CALSCALE:GREGORIAN
METHOD:PUBLISH
BEGIN:VEVENT
UID:69e88fc3b0c8c
DTSTAMP:20260422T090715
DTSTART:20260529
DTEND:20260530
TZID:Europe/Lisbon
LOCATION:
SUMMARY:Olga Cerpa y Mestisay
DESCRIPTION:El próximo 29 de mayo\,  en el contexto de la Semana de Canarias y como antesala a la celebración del Día de Canarias\,   la formación de Olga Cerpa y Mestisay ofrecerá un concierto especial en Los Llanos de Aridane. Con más de tres décadas de trayectoria dedicada a la música[..]\nhttps://culturalapalma.com/eventos/olga-cerpa-y-mestisay/
URL:https://culturalapalma.com/eventos/olga-cerpa-y-mestisay/
END:VEVENT
END:VCALENDAR