BEGIN:VCALENDAR
VERSION:2.0
PRODID:-//eventon.com NONSGML v1.0//EN
CALSCALE:GREGORIAN
METHOD:PUBLISH
BEGIN:VEVENT
UID:69e88f9245251
DTSTAMP:20260422T090626
DTSTART:20260703
DTEND:20260705
TZID:Europe/Lisbon
LOCATION:
SUMMARY:Isla Diverxa Festival
DESCRIPTION:El Isla Diverxa Festival es una iniciativa cultural pionera que se celebra en El Paso con el objetivo de situar las artes escénicas inclusivas en el corazón de la agenda cultural de La Palma\,  ofreciendo un espacio de encuentro abierto\,  accesible y comprometido con la diversidad a través de teatro\, [..]\nhttps://culturalapalma.com/eventos/isla-diverxa-festival/
URL:https://culturalapalma.com/eventos/isla-diverxa-festival/
END:VEVENT
END:VCALENDAR