BEGIN:VCALENDAR
VERSION:2.0
PRODID:-//eventon.com NONSGML v1.0//EN
CALSCALE:GREGORIAN
METHOD:PUBLISH
BEGIN:VEVENT
UID:69e88f0edb19e
DTSTAMP:20260422T090414
DTSTART:20260605
DTEND:20260607
TZID:Europe/Lisbon
LOCATION:
SUMMARY:Fiestas en honor a San Roque
DESCRIPTION:La fiesta en honor a San Roque es una celebración tradicional que tiene lugar cada año en Puntagorda\,  en el barrio de El Roque\,  donde se encuentra la capilla dedicada al santo y la imagen que se venera durante estos días. La programación combina actos religiosos\,  como la misa y[..]\nhttps://culturalapalma.com/eventos/fiestas-en-honor-a-san-roque/
URL:https://culturalapalma.com/eventos/fiestas-en-honor-a-san-roque/
END:VEVENT
END:VCALENDAR