BEGIN:VCALENDAR
VERSION:2.0
PRODID:-//eventon.com NONSGML v1.0//EN
CALSCALE:GREGORIAN
METHOD:PUBLISH
BEGIN:VEVENT
UID:69e8a5ac126f6
DTSTAMP:20260422T104044
DTSTART:20260728
DTEND:20260802
TZID:Europe/Lisbon
LOCATION:
SUMMARY:II Benahoare Gospel
DESCRIPTION:Benahoare Gospel es un festival internacional de música góspel y naturaleza que se celebra en el municipio de Los Llanos de Aridane en la isla de La Palma. Este evento propone una experiencia única en la que se combina música góspel en vivo\,  talleres dirigidos por artistas profesionales y actividades[..]\nhttps://culturalapalma.com/eventos/ii-benahoare-gospel/
URL:https://culturalapalma.com/eventos/ii-benahoare-gospel/
END:VEVENT
END:VCALENDAR