BEGIN:VCALENDAR
VERSION:2.0
PRODID:-//eventon.com NONSGML v1.0//EN
CALSCALE:GREGORIAN
METHOD:PUBLISH
BEGIN:VEVENT
UID:69e8a570f0302
DTSTAMP:20260422T103944
DTSTART:20260911
DTEND:20260920
TZID:Europe/Lisbon
LOCATION:
SUMMARY:Festivalito - Festival de la Estrellas de La Palma
DESCRIPTION:El Festivalito no es solo un festival de proyecciones\,  sino un laboratorio creativo donde cineastas y participantes de diversas partes del mundo trabajan y ruedan cortometrajes inspirados en un lema temático. La programación incluye concursos de rodaje\,  proyecciones al aire libre\,  talleres formativos\,  actividades de encuentro entre artistas y público\, [..]\nhttps://culturalapalma.com/eventos/festivalito-festival-de-la-estrellas-de-la-palma/
URL:https://culturalapalma.com/eventos/festivalito-festival-de-la-estrellas-de-la-palma/
END:VEVENT
END:VCALENDAR