BEGIN:VCALENDAR
VERSION:2.0
PRODID:-//eventon.com NONSGML v1.0//EN
CALSCALE:GREGORIAN
METHOD:PUBLISH
BEGIN:VEVENT
UID:69e8a51626c6e
DTSTAMP:20260422T103814
DTSTART:20260923
DTEND:20260928
TZID:Europe/Lisbon
LOCATION:
SUMMARY:Festival de la Palabra de Garafía
DESCRIPTION:Encuentro cultural anual que se celebra en el municipio de Garafía\,  en la isla de La Palma\,  y que gira en torno al uso\,  el disfrute y la difusión de la palabra\,  el pensamiento y las letras. Este evento reúne a escritores\,  narradores\,  poetas\,  investigadores y público general para explorar[..]\nhttps://culturalapalma.com/eventos/festival-de-la-palabra-de-garafia/
URL:https://culturalapalma.com/eventos/festival-de-la-palabra-de-garafia/
END:VEVENT
END:VCALENDAR