BEGIN:VCALENDAR
VERSION:2.0
PRODID:-//eventon.com NONSGML v1.0//EN
CALSCALE:GREGORIAN
METHOD:PUBLISH
BEGIN:VEVENT
UID:69e8a8b9059fd
DTSTAMP:20260422T105345
DTSTART:20260806
DTEND:20260828
TZID:Europe/Lisbon
LOCATION:
SUMMARY:Santa Cruz de La Palma en Blanco y Negro - La tecla de la capital
DESCRIPTION:Santa Cruz de La Palma en Blanco y Negro es un ciclo cultural y musical que se desarrolla en el municipio de Santa Cruz de La Palma\,  centrado en la presencia del piano como protagonista artístico en espacios públicos de la ciudad. Esta iniciativa propone una serie de conciertos gratuitos[..]\nhttps://culturalapalma.com/eventos/santa-cruz-de-la-palma-en-blanco-y-negro-la-tecla-de-la-capital/
URL:https://culturalapalma.com/eventos/santa-cruz-de-la-palma-en-blanco-y-negro-la-tecla-de-la-capital/
END:VEVENT
END:VCALENDAR