BEGIN:VCALENDAR
VERSION:2.0
PRODID:-//eventon.com NONSGML v1.0//EN
CALSCALE:GREGORIAN
METHOD:PUBLISH
BEGIN:VEVENT
UID:69e8a564ca9bb
DTSTAMP:20260422T103932
DTSTART:20260731
DTEND:20260817
TZID:Europe/Lisbon
LOCATION:
SUMMARY:Fiestas en honor a Nuestra Señora del Rosario
DESCRIPTION:Las Fiestas en honor a Nuestra Señora del Rosario son las patronales del municipio de Barlovento\,  en el norte de la isla de La Palma\,  y se celebran cada año en el corazón del casco urbano con actos religiosos\,  populares y culturales que reúnen a vecinos y visitantes. Estas fiestas[..]\nhttps://culturalapalma.com/eventos/fiestas-en-honor-a-nuestra-senora-del-rosario/
URL:https://culturalapalma.com/eventos/fiestas-en-honor-a-nuestra-senora-del-rosario/
END:VEVENT
END:VCALENDAR