BEGIN:VCALENDAR
VERSION:2.0
PRODID:-//eventon.com NONSGML v1.0//EN
CALSCALE:GREGORIAN
METHOD:PUBLISH
BEGIN:VEVENT
UID:69e8a50f2b4a0
DTSTAMP:20260422T103807
DTSTART:20260924
DTEND:20260928
TZID:Europe/Lisbon
LOCATION:
SUMMARY:FAVE - Festival de artes visuales y escénicas
DESCRIPTION:Evento cultural que transforma las plazas\,  calles y espacios urbanos de Santa Cruz de La Palma en un gran escenario artístico. Durante varios días\,  la ciudad acoge una programación gratuita y abierta al público que incluye teatro\,  danza\,  música\,  circo\,  clown\,  videomapping y otras expresiones escénicas y visuales\,  con propuestas[..]\nhttps://culturalapalma.com/eventos/fave-festival-de-artes-visuales-y-escenicas/
URL:https://culturalapalma.com/eventos/fave-festival-de-artes-visuales-y-escenicas/
END:VEVENT
END:VCALENDAR