BEGIN:VCALENDAR
VERSION:2.0
PRODID:-//eventon.com NONSGML v1.0//EN
CALSCALE:GREGORIAN
METHOD:PUBLISH
BEGIN:VEVENT
UID:69e88f64cbf80
DTSTAMP:20260422T090540
DTSTART:20261106
DTEND:20261108
TZID:Europe/Lisbon
LOCATION:
SUMMARY:San Martín con Humor
DESCRIPTION:Evento cultural y festivo que se celebra en el municipio de La Villa de Garafía y que une la tradición popular de San Martín con espectáculos de humor y entretenimiento para todos los públicos. Este encuentro propone actuaciones de humoristas canarios en diferentes espacios del municipio\,  así como actividades complementarias como[..]\nhttps://culturalapalma.com/eventos/san-martin-con-humor/
URL:https://culturalapalma.com/eventos/san-martin-con-humor/
END:VEVENT
END:VCALENDAR