BEGIN:VCALENDAR
VERSION:2.0
PRODID:-//eventon.com NONSGML v1.0//EN
CALSCALE:GREGORIAN
METHOD:PUBLISH
BEGIN:VEVENT
UID:69e8a8b6afe2b
DTSTAMP:20260422T105342
DTSTART:20261116
DTEND:20261123
TZID:Europe/Lisbon
LOCATION:
SUMMARY:Semana Cultural José Luis Lorenzo Barreto
DESCRIPTION:Esta iniciativa reúne una amplia programación de actividades culturales que tienen lugar en distintos espacios del municipio\,  e incluyen exposiciones\,  conciertos\,  funciones de títeres\,  talleres creativos\,  sesiones de narración y visitas guiadas\,  entre otras propuestas que ponen en valor la cultura\,  las tradiciones y el patrimonio local.  Durante la semana[..]\nhttps://culturalapalma.com/eventos/semana-cultural-jose-luis-lorenzo-barreto/
URL:https://culturalapalma.com/eventos/semana-cultural-jose-luis-lorenzo-barreto/
END:VEVENT
END:VCALENDAR