BEGIN:VCALENDAR
VERSION:2.0
PRODID:-//eventon.com NONSGML v1.0//EN
CALSCALE:GREGORIAN
METHOD:PUBLISH
BEGIN:VEVENT
UID:69e8a5ab7788c
DTSTAMP:20260422T104043
DTSTART:20260801T180000Z
DTEND:20260801T020000Z
TZID:Europe/Lisbon
LOCATION:
SUMMARY:Vilus Festival
DESCRIPTION:festival de música electrónica y rock que se celebra en Los Llanos de Aridane\,  en el municipio homónimo de la isla de La Palma. Se ha constituido como un evento musical de referencia dentro de la agenda cultural veraniega del municipio\,  destacando por ofrecer una experiencia inmersiva con una cuidada[..]\nhttps://culturalapalma.com/eventos/vilus-festival/
URL:https://culturalapalma.com/eventos/vilus-festival/
END:VEVENT
END:VCALENDAR