BEGIN:VCALENDAR
VERSION:2.0
PRODID:-//eventon.com NONSGML v1.0//EN
CALSCALE:GREGORIAN
METHOD:PUBLISH
BEGIN:VEVENT
UID:69e8a543773c2
DTSTAMP:20260422T103859
DTSTART:20260905T160000Z
DTEND:20260906T005900Z
TZID:Europe/Lisbon
LOCATION:
SUMMARY:Novéntate Festival
DESCRIPTION:Novéntate es un festival musical y cultural que se celebra en el municipio de Los Llanos de Aridane (La Palma) y que propone un auténtico viaje a la década de los años 90 a través de la música\,  la estética y la tecnología de esa época. El evento reúne actuaciones[..]\nhttps://culturalapalma.com/eventos/noventate-festival/
URL:https://culturalapalma.com/eventos/noventate-festival/
END:VEVENT
END:VCALENDAR