BEGIN:VCALENDAR
VERSION:2.0
PRODID:-//eventon.com NONSGML v1.0//EN
CALSCALE:GREGORIAN
METHOD:PUBLISH
BEGIN:VEVENT
UID:69e88f5669862
DTSTAMP:20260422T090526
DTSTART:20260520
DTEND:20260525
TZID:Europe/Lisbon
LOCATION:
SUMMARY:Nombrarse Volcán
DESCRIPTION:Nombrarse Volcán es un festival de poesía y performance que se celebra en La Palma\,  con programación descentralizada principalmente en los municipios de El Paso y Los Llanos de Aridane. Su propuesta entiende la poesía como una experiencia viva y expandida\,  combinando recitales y acciones performativas con formatos contemporáneos e[..]\nhttps://culturalapalma.com/eventos/nombrarse-volcan/
URL:https://culturalapalma.com/eventos/nombrarse-volcan/
END:VEVENT
END:VCALENDAR