BEGIN:VCALENDAR
VERSION:2.0
PRODID:-//eventon.com NONSGML v1.0//EN
CALSCALE:GREGORIAN
METHOD:PUBLISH
BEGIN:VEVENT
UID:69e88f942a960
DTSTAMP:20260422T090628
DTSTART:20260801
DTEND:20260810
TZID:Europe/Lisbon
LOCATION:
SUMMARY:Fiestas en honor a San Mauro Abad
DESCRIPTION:Las Fiestas en honor a San Mauro Abad son las patronales del municipio de Puntagorda (La Palma) y constituyen una de las celebraciones más importantes del calendario local. La programación combina actos religiosos\,  como la misa y la procesión del patrón\,  con una romería tradicional en la que participan vecinos[..]\nhttps://culturalapalma.com/eventos/fiestas-en-honor-a-san-mauro-abad/
URL:https://culturalapalma.com/eventos/fiestas-en-honor-a-san-mauro-abad/
END:VEVENT
END:VCALENDAR