BEGIN:VCALENDAR
VERSION:2.0
PRODID:-//eventon.com NONSGML v1.0//EN
CALSCALE:GREGORIAN
METHOD:PUBLISH
BEGIN:VEVENT
UID:69e88ffd4a314
DTSTAMP:20260422T090813
DTSTART:20260703T200000Z
DTEND:20260703T230000Z
TZID:Europe/Lisbon
LOCATION:
SUMMARY:Olga Cerpa y Mestisay en Breña Alta
DESCRIPTION:El municipio de Breña Alta acoge el concierto de Olga Cerpa y Mestisay\,  una de las formaciones más representativas de la música popular canaria contemporánea. Con una trayectoria consolidada y un repertorio que combina tradición\,  identidad atlántica y nuevas sonoridades\,  el grupo ofrece un directo elegante y comprometido con la[..]\nhttps://culturalapalma.com/eventos/olga-cerpa-y-mestisay-en-brena-alta/
URL:https://culturalapalma.com/eventos/olga-cerpa-y-mestisay-en-brena-alta/
END:VEVENT
END:VCALENDAR