BEGIN:VCALENDAR
VERSION:2.0
PRODID:-//eventon.com NONSGML v1.0//EN
CALSCALE:GREGORIAN
METHOD:PUBLISH
BEGIN:VEVENT
UID:69e88fcb37d20
DTSTAMP:20260422T090723
DTSTART:20260605
DTEND:20260706
TZID:Europe/Lisbon
LOCATION:
SUMMARY:Fiestas de San Pedro de Breña Alta
DESCRIPTION:Breña Alta celebra sus tradicionales Fiestas de San Pedro con un programa que combina actos religiosos\,  actividades culturales y propuestas festivas para todos los públicos. La programación incluye celebraciones litúrgicas y procesión en honor al santo\,  junto a verbenas\,  conciertos y encuentros vecinales que refuerzan el carácter participativo de una[..]\nhttps://culturalapalma.com/eventos/fiestas-de-san-pedro-de-brena-alta/
URL:https://culturalapalma.com/eventos/fiestas-de-san-pedro-de-brena-alta/
END:VEVENT
END:VCALENDAR