BEGIN:VCALENDAR
VERSION:2.0
PRODID:-//eventon.com NONSGML v1.0//EN
CALSCALE:GREGORIAN
METHOD:PUBLISH
BEGIN:VEVENT
UID:69e88ff5a7acc
DTSTAMP:20260422T090805
DTSTART:20260523
DTEND:20260524
TZID:Europe/Lisbon
LOCATION:
SUMMARY:Feria del Vino de Breña Alta
DESCRIPTION:Breña Alta celebra su Feria del Vino\,  conocida como Encuentro EnoGastrosolidario o Fiesta del Vino con Sabor a Verano\,  una cita que combina la promoción de los vinos de La Palma con gastronomía local y un marcado carácter solidario. El evento reúne a bodegas\,  restauradores y público en un ambiente[..]\nhttps://culturalapalma.com/eventos/feria-del-vino-de-brena-alta/
URL:https://culturalapalma.com/eventos/feria-del-vino-de-brena-alta/
END:VEVENT
END:VCALENDAR