BEGIN:VCALENDAR
VERSION:2.0
PRODID:-//eventon.com NONSGML v1.0//EN
CALSCALE:GREGORIAN
METHOD:PUBLISH
BEGIN:VEVENT
UID:69e8a61c07513
DTSTAMP:20260422T104236
DTSTART:20260808
DTEND:20260816
TZID:Europe/Lisbon
LOCATION:
SUMMARY:Fiestas de la Inmaculada Concepción
DESCRIPTION:Breña Alta celebra la festividad de la Inmaculada Concepción como una de sus citas religiosas más arraigadas\,  con actos litúrgicos y procesión en honor a la patrona\,  acompañados de actividades culturales y encuentros vecinales. La programación refuerza el carácter tradicional y comunitario de esta celebración\,  que cada mes de diciembre[..]\nhttps://culturalapalma.com/eventos/fiestas-de-la-inmaculada-concepcion/
URL:https://culturalapalma.com/eventos/fiestas-de-la-inmaculada-concepcion/
END:VEVENT
END:VCALENDAR