BEGIN:VCALENDAR
VERSION:2.0
PRODID:-//eventon.com NONSGML v1.0//EN
CALSCALE:GREGORIAN
METHOD:PUBLISH
BEGIN:VEVENT
UID:69e8934c2012c
DTSTAMP:20260422T092220
DTSTART:20261116
DTEND:20261123
TZID:Europe/Lisbon
LOCATION:
SUMMARY:Festival Internacional del Cuento
DESCRIPTION:Breña Alta acoge el Festival Internacional del Cuento\,  una cita consolidada en el calendario cultural insular dedicada a la narración oral en sus distintas expresiones. El encuentro reúne a narradores y narradoras de ámbito regional\,  nacional e internacional\,  con propuestas dirigidas tanto a público infantil como adulto\,  convirtiendo plazas\,  bibliotecas[..]\nhttps://culturalapalma.com/eventos/festival-internacional-del-cuento/
URL:https://culturalapalma.com/eventos/festival-internacional-del-cuento/
END:VEVENT
END:VCALENDAR