BEGIN:VCALENDAR
VERSION:2.0
PRODID:-//eventon.com NONSGML v1.0//EN
CALSCALE:GREGORIAN
METHOD:PUBLISH
BEGIN:VEVENT
UID:69e88f960f324
DTSTAMP:20260422T090630
DTSTART:20260912
DTEND:20260913
TZID:Europe/Lisbon
LOCATION:
SUMMARY:El Verbreñazo
DESCRIPTION:El Verbreñazo se ha consolidado como una de las citas musicales más dinámicas del verano en Breña Alta\,  reuniendo a público joven y adulto en torno a conciertos y propuestas festivas al aire libre. Con un formato centrado en la música en directo y el ambiente participativo\,  el evento dinamiza[..]\nhttps://culturalapalma.com/eventos/el-verbrenazo/
URL:https://culturalapalma.com/eventos/el-verbrenazo/
END:VEVENT
END:VCALENDAR