BEGIN:VCALENDAR
VERSION:2.0
PRODID:-//eventon.com NONSGML v1.0//EN
CALSCALE:GREGORIAN
METHOD:PUBLISH
BEGIN:VEVENT
UID:69e8a5c48e4ff
DTSTAMP:20260422T104108
DTSTART:20260423
DTEND:20260427
TZID:Europe/Lisbon
LOCATION:
SUMMARY:Fiestas de la Cruz del Palo Podrido
DESCRIPTION:Las Fiestas de la Cruz del Palo Podrido se celebran del 23 al 26 de abril en Montes de Luna (Villa de Mazo) con un programa que incluye misa y procesión\,  cross popular\,  romería\,  baile de magos\,  actuaciones musicales\,  juegos infantiles y actividades tradicionales como el Baile de la Escoba.[..]\nhttps://culturalapalma.com/eventos/fiestas-de-la-cruz-del-palo-podrido/
URL:https://culturalapalma.com/eventos/fiestas-de-la-cruz-del-palo-podrido/
END:VEVENT
END:VCALENDAR