BEGIN:VCALENDAR
VERSION:2.0
PRODID:-//eventon.com NONSGML v1.0//EN
CALSCALE:GREGORIAN
METHOD:PUBLISH
BEGIN:VEVENT
UID:69e8a572e9b35
DTSTAMP:20260422T103946
DTSTART:20260829
DTEND:20260830
TZID:Europe/Lisbon
LOCATION:
SUMMARY:Tazacorte Summer Fest
DESCRIPTION:El Tazacorte Summer Fest se consolida como una de las principales citas musicales del verano en la isla\,  reuniendo en el litoral de Tazacorte a artistas de proyección regional y nacional en un formato de conciertos al aire libre. El evento combina música en directo\,  ambiente festivo y dinamización turística\, [..]\nhttps://culturalapalma.com/eventos/tazacorte-summer-fest/
URL:https://culturalapalma.com/eventos/tazacorte-summer-fest/
END:VEVENT
END:VCALENDAR