BEGIN:VCALENDAR
VERSION:2.0
PRODID:-//eventon.com NONSGML v1.0//EN
CALSCALE:GREGORIAN
METHOD:PUBLISH
BEGIN:VEVENT
UID:69e8a6ac25591
DTSTAMP:20260422T104500
DTSTART:20260507
DTEND:20260510
TZID:Europe/Lisbon
LOCATION:
SUMMARY:Transvulcania 2026
DESCRIPTION:La Transvulcania regresa en 2026 como una de las pruebas de trail running más emblemáticas del calendario internacional\,  recorriendo algunos de los paisajes más espectaculares de La Palma\,  desde el sur volcánico hasta la meta en Los Llanos de Aridane. Con diferentes modalidades adaptadas a distintos niveles de exigencia\,  la[..]\nhttps://culturalapalma.com/eventos/transvulcania-2026/
URL:https://culturalapalma.com/eventos/transvulcania-2026/
END:VEVENT
END:VCALENDAR