BEGIN:VCALENDAR
VERSION:2.0
PRODID:-//eventon.com NONSGML v1.0//EN
CALSCALE:GREGORIAN
METHOD:PUBLISH
BEGIN:VEVENT
UID:69e8a545905c0
DTSTAMP:20260422T103901
DTSTART:20260604
DTEND:20260608
TZID:Europe/Lisbon
LOCATION:
SUMMARY:Corpus Christi · Villa de Mazo
DESCRIPTION:La Villa de Mazo celebra el Corpus Christi como una de sus manifestaciones festivas y religiosas más singulares\,  con la elaboración de tradicionales alfombras y decoraciones efímeras que transforman las calles del municipio en un recorrido artístico y devocional. La procesión y los actos asociados convierten esta cita en una[..]\nhttps://culturalapalma.com/eventos/corpus-christi-%c2%b7-villa-de-mazo/
URL:https://culturalapalma.com/eventos/corpus-christi-%c2%b7-villa-de-mazo/
END:VEVENT
END:VCALENDAR