BEGIN:VCALENDAR
VERSION:2.0
PRODID:-//eventon.com NONSGML v1.0//EN
CALSCALE:GREGORIAN
METHOD:PUBLISH
BEGIN:VEVENT
UID:69e88fbac6615
DTSTAMP:20260422T090706
DTSTART:20260425T130000Z
DTEND:20260426T000000Z
TZID:Europe/Lisbon
LOCATION:
SUMMARY:Festival Akelarre
DESCRIPTION:El Festival Akelarre es una propuesta cultural centrada en la música electrónica y la visibilización del talento femenino en la escena DJ y de producción musical. Concebido como un espacio de encuentro\,  creación y reivindicación artística\,  el evento combina sesiones en directo con una narrativa contemporánea que apuesta por la[..]\nhttps://culturalapalma.com/eventos/festival-akelarre/
URL:https://culturalapalma.com/eventos/festival-akelarre/
END:VEVENT
END:VCALENDAR