BEGIN:VCALENDAR
VERSION:2.0
PRODID:-//eventon.com NONSGML v1.0//EN
CALSCALE:GREGORIAN
METHOD:PUBLISH
BEGIN:VEVENT
UID:69e88f7d4fd83
DTSTAMP:20260422T090605
DTSTART:20260502
DTEND:20260503
TZID:Europe/Lisbon
LOCATION:
SUMMARY:Festival Candela
DESCRIPTION:El Festival Candela es una propuesta cultural que se desarrolla en Puerto Naos y que combina música en directo\,  danza\,  talleres y actividades participativas en un entorno abierto y comunitario. Concebido como un espacio de encuentro y dinamización cultural\,  el evento reúne distintas disciplinas artísticas y fomenta la convivencia\,  consolidándose[..]\nhttps://culturalapalma.com/eventos/festival-candela/
URL:https://culturalapalma.com/eventos/festival-candela/
END:VEVENT
END:VCALENDAR