BEGIN:VCALENDAR
VERSION:2.0
PRODID:-//eventon.com NONSGML v1.0//EN
CALSCALE:GREGORIAN
METHOD:PUBLISH
BEGIN:VEVENT
UID:69e8a51635cdd
DTSTAMP:20260422T103814
DTSTART:20260604
DTEND:20260607
TZID:Europe/Lisbon
LOCATION:
SUMMARY:A lo Rural
DESCRIPTION:El municipio de El Paso celebra del 4 al 6 de junio de 2026 una nueva edición de “A lo Rural”\,  un encuentro etnográfico y artístico que fusiona artes escénicas\,  música folk y tradiciones rurales con propuestas contemporáneas. Esta iniciativa\,  concebida como un espacio de diálogo entre patrimonio\,  creación y[..]\nhttps://culturalapalma.com/eventos/a-lo-rural/
URL:https://culturalapalma.com/eventos/a-lo-rural/
END:VEVENT
END:VCALENDAR