BEGIN:VCALENDAR
VERSION:2.0
PRODID:-//eventon.com NONSGML v1.0//EN
CALSCALE:GREGORIAN
METHOD:PUBLISH
BEGIN:VEVENT
UID:69e88f281703d
DTSTAMP:20260422T090440
DTSTART:20260516
DTEND:20260517
TZID:Europe/Lisbon
LOCATION:
SUMMARY:Romería de Machín
DESCRIPTION:La tradicional Romería del Valle de las Cruces vuelve a reunir a vecinos y visitantes en el barrio de Machín (Roque del Faro)\,  en la Villa de Garafía. Esta fiesta popular rescata las costumbres canarias con caminos engalanadas\,  parrandas y participantes ataviados con trajes típicos\,  en un recorrido festivo por[..]\nhttps://culturalapalma.com/eventos/romeria-de-machin/
URL:https://culturalapalma.com/eventos/romeria-de-machin/
END:VEVENT
END:VCALENDAR