BEGIN:VCALENDAR
VERSION:2.0
PRODID:-//eventon.com NONSGML v1.0//EN
CALSCALE:GREGORIAN
METHOD:PUBLISH
BEGIN:VEVENT
UID:69e8a69bd1132
DTSTAMP:20260422T104443
DTSTART:20261102
DTEND:20261108
TZID:Europe/Lisbon
LOCATION:
SUMMARY:VI Festival Impulso
DESCRIPTION:La VI Edición del Festival Impulso llega a la isla de La Palma del 2 al 7 de noviembre de 2026 con una propuesta cultural integral que acerca la música clásica y barroca a diversos colectivos y espacios de la isla. Este proyecto\,  que nació con vocación de fomentar tanto[..]\nhttps://culturalapalma.com/eventos/vi-festival-impulso/
URL:https://culturalapalma.com/eventos/vi-festival-impulso/
END:VEVENT
END:VCALENDAR