BEGIN:VCALENDAR
VERSION:2.0
PRODID:-//eventon.com NONSGML v1.0//EN
CALSCALE:GREGORIAN
METHOD:PUBLISH
BEGIN:VEVENT
UID:69e8a6ae2e96d
DTSTAMP:20260422T104502
DTSTART:20260619
DTEND:20260620
TZID:Europe/Lisbon
LOCATION:
SUMMARY:Aridane + Dance - Luck Ra + Valentino Merlo
DESCRIPTION:El próximo 19 de junio de 2026\,  la Plaza Juan Pablo II de Los Llanos de Aridane acogerá una de las citas musicales más esperadas del verano en La Palma con el festival Aridane + Dance\,  una velada al aire libre cargada de energía\,  ritmo y música latina. En esta[..]\nhttps://culturalapalma.com/eventos/aridane-dance-luck-ra-valentino-merlo/
URL:https://culturalapalma.com/eventos/aridane-dance-luck-ra-valentino-merlo/
END:VEVENT
END:VCALENDAR