BEGIN:VCALENDAR
VERSION:2.0
PRODID:-//eventon.com NONSGML v1.0//EN
CALSCALE:GREGORIAN
METHOD:PUBLISH
BEGIN:VEVENT
UID:69e8a5ae160ec
DTSTAMP:20260422T104046
DTSTART:20260710
DTEND:20260711
TZID:Europe/Lisbon
LOCATION:
SUMMARY:Festival ResisTIME - Ke Personajes
DESCRIPTION:El municipio de El Paso acoge el próximo 10 de julio de 2026 una de las citas musicales más vibrantes del verano palmero con ResisTIME Live Fest\,  un festival diseñado para ofrecer una noche de música en directo\,  energía y espectáculo en el Campo de Fútbol de El Paso. El[..]\nhttps://culturalapalma.com/eventos/festival-resistime-ke-personajes/
URL:https://culturalapalma.com/eventos/festival-resistime-ke-personajes/
END:VEVENT
END:VCALENDAR