BEGIN:VCALENDAR
VERSION:2.0
PRODID:-//eventon.com NONSGML v1.0//EN
CALSCALE:GREGORIAN
METHOD:PUBLISH
BEGIN:VEVENT
UID:69e8a549f2675
DTSTAMP:20260422T103905
DTSTART:20261017
DTEND:20261023
TZID:Europe/Lisbon
LOCATION:
SUMMARY:STARMUS VIII
DESCRIPTION:STARMUS VIII: En busca de la verdad se celebrará del 17 al 22 de octubre de 2026 en Canarias\,  con La Palma como una de sus sedes oficiales junto a Tenerife. El festival internacional\,  que combina ciencia\,  música y divulgación\,  reunirá en la isla a destacadas figuras del ámbito científico\, [..]\nhttps://culturalapalma.com/eventos/starmus/
URL:https://culturalapalma.com/eventos/starmus/
END:VEVENT
END:VCALENDAR