BEGIN:VCALENDAR
VERSION:2.0
PRODID:-//eventon.com NONSGML v1.0//EN
CALSCALE:GREGORIAN
METHOD:PUBLISH
BEGIN:VEVENT
UID:69e88fc5183cb
DTSTAMP:20260422T090717
DTSTART:20260418T130000Z
DTEND:20260419T005900Z
TZID:Europe/Lisbon
LOCATION:
SUMMARY:Feria de Abril de El Paso
DESCRIPTION:Feria de Abril en El Paso es una celebración festiva que llena de color\,  música y tradición andaluza la Avenida Islas Canarias del municipio\,  evocando el ambiente característico de las ferias del sur de España. Organizada por el Ayuntamiento de El Paso con la colaboración de entidades locales\,  esta jornada[..]\nhttps://culturalapalma.com/eventos/feria-de-abril-de-el-paso/
URL:https://culturalapalma.com/eventos/feria-de-abril-de-el-paso/
END:VEVENT
END:VCALENDAR