BEGIN:VCALENDAR
VERSION:2.0
PRODID:-//eventon.com NONSGML v1.0//EN
CALSCALE:GREGORIAN
METHOD:PUBLISH
BEGIN:VEVENT
UID:69e8a6498484f
DTSTAMP:20260422T104321
DTSTART:20260614
DTEND:20260615
TZID:Europe/Lisbon
LOCATION:
SUMMARY:Sagrado Corazón de Jesús
DESCRIPTION:La Fiesta del Sagrado Corazón de Jesús en El Paso es una de las celebraciones religiosas y culturales más arraigadas del calendario festivo de esta localidad de La Palma (Canarias)\,  que este año tiene su día grande el 14 de junio. Durante estas fechas\,  el municipio se engalana con arcos\, [..]\nhttps://culturalapalma.com/eventos/sagrado-corazon-de-jesus/
URL:https://culturalapalma.com/eventos/sagrado-corazon-de-jesus/
END:VEVENT
END:VCALENDAR