BEGIN:VCALENDAR
VERSION:2.0
PRODID:-//eventon.com NONSGML v1.0//EN
CALSCALE:GREGORIAN
METHOD:PUBLISH
BEGIN:VEVENT
UID:69e8a6c5c5a1c
DTSTAMP:20260422T104525
DTSTART:20261003
DTEND:20261004
TZID:Europe/Lisbon
LOCATION:
SUMMARY:OktoberFest de El Paso
DESCRIPTION:La celebración del OktoberFest de El Paso es una fiesta popular que marca el inicio del otoño en este municipio de La Palma y que\,  en su edición del 3 de octubre\,  transformará la Calle Manuel Taño en un animado paseo festivo al más puro estilo bávaro. La jornada ofrece[..]\nhttps://culturalapalma.com/eventos/oktoberfest-de-el-paso/
URL:https://culturalapalma.com/eventos/oktoberfest-de-el-paso/
END:VEVENT
END:VCALENDAR